BEGIN:VCALENDAR
VERSION:2.0
PRODID:-//Respiro e Movimento® by Giuseppe Ravì - ECPv6.15.20//NONSGML v1.0//EN
CALSCALE:GREGORIAN
METHOD:PUBLISH
X-WR-CALNAME:Respiro e Movimento® by Giuseppe Ravì
X-ORIGINAL-URL:https://respiroemovimento.org
X-WR-CALDESC:Events for Respiro e Movimento® by Giuseppe Ravì
REFRESH-INTERVAL;VALUE=DURATION:PT1H
X-Robots-Tag:noindex
X-PUBLISHED-TTL:PT1H
BEGIN:VTIMEZONE
TZID:Europe/Paris
BEGIN:DAYLIGHT
TZOFFSETFROM:+0100
TZOFFSETTO:+0200
TZNAME:CEST
DTSTART:20250330T010000
END:DAYLIGHT
BEGIN:STANDARD
TZOFFSETFROM:+0200
TZOFFSETTO:+0100
TZNAME:CET
DTSTART:20251026T010000
END:STANDARD
BEGIN:DAYLIGHT
TZOFFSETFROM:+0100
TZOFFSETTO:+0200
TZNAME:CEST
DTSTART:20260329T010000
END:DAYLIGHT
BEGIN:STANDARD
TZOFFSETFROM:+0200
TZOFFSETTO:+0100
TZNAME:CET
DTSTART:20261025T010000
END:STANDARD
BEGIN:DAYLIGHT
TZOFFSETFROM:+0100
TZOFFSETTO:+0200
TZNAME:CEST
DTSTART:20270328T010000
END:DAYLIGHT
BEGIN:STANDARD
TZOFFSETFROM:+0200
TZOFFSETTO:+0100
TZNAME:CET
DTSTART:20271031T010000
END:STANDARD
END:VTIMEZONE
BEGIN:VEVENT
DTSTART;TZID=Europe/Paris:20260607T100000
DTEND;TZID=Europe/Paris:20260610T200000
DTSTAMP:20260423T042827
CREATED:20260225T090058Z
LAST-MODIFIED:20260420T135910Z
UID:16654-1780826400-1781121600@respiroemovimento.org
SUMMARY:Purser and Ravi Conducting Academy: Vienna 7-10 June 2026
DESCRIPTION:7 June		\n\n					\n				 h 			\n			\n				10:00			\n		\n									\n					 - 				\n			\n							\n					10 June				\n\n									\n						 h 					\n					\n						20:00					\n				\n			\n							UTC+1\n						 \n\n\n\n\n \n\n\n\n		\n\n\n\n\n\n	\n		\n	\n\n\n\n\n	\n		\n			\n				\n					\n						\n	\n	\n\n						\n							Add to calendar						\n						\n	\n\n					\n					\n						\n															\n									\n										Google Calendar									\n								\n															\n									\n										iCalendar									\n								\n															\n									\n										Outlook 365									\n								\n															\n									\n										Outlook Live									\n								\n													\n					\n				\n			\n		\n	\n\n								\n				\n					\n				\n		\n					\n				\n				\n																														\n				\n					\n				\n		\n					\n		\n				\n				\n					Join us for an intensive 4-day workshop in Vienna\, led by Toby Purser and Giuseppe Ravì.This workshop is based on the principles of the connection between musical intention\, breath\, and movement. It's a unique opportunity to strengthen your physical communication skills\, increase your authority and confidence\, and develop competition skills.				\n				\n				\n				\n							\n			\n						\n		\n						\n				\n				\n					\n				\n		\n					\n		\n				\n				\n																														\n				\n				\n		\n				\n				\n					\n    \n        Toby Purser\n    \n    \n        Conductor\n    \n    \n        Head of Conducting at London's Royal College of Music\, \n        Toby Purser's conducting is recognised for its combination of passion and intellect\, \n        poetry and drama. Recent nominations have been for an Olivier Award and an International Opera Award.\n     \n				\n				\n				\n					\n				\n		\n					\n		\n				\n				\n																														\n				\n				\n		\n				\n				\n					\n    \n        Giuseppe Ravì\n    \n    \n        Respiro e Movimento®\n    \n    \n        Founder of Respiro e Movimento®\, an innovative technique that helps professionals \n        reach their full potential. He teaches at mdw University of Music and Performing Arts Vienna\, Hochschule für Musik Hanns Eisler Berlin\, \n        and conducts workshops at institutions such as Royal Academy of London\, \n        Royal College of Music London and Universität der Künste Berlin.\n     \n				\n				\n				\n					\n				\n		\n					\n				\n				\n							\n			\n						\n		\n						\n				\n					\n				\n		\n					\n		\n		\n				\n				\n					Join us for a transformative four-day workshop!				\n				\n				\n		\n				\n				\n									\n					\n						\n						\n							\n									APPLY NOW!\n					\n					\n				\n								\n				\n				\n				\n					\n				\n		\n					\n		\n				\n				\n					Program				\n				\n				\n				\n							\n\n			\n						\n\n				\n									\n						minimum podium time: 140 min.					 \n				\n			\n			\n		\n						\n				\n				\n					\n				\n		\n					\n				\n				\n							\n\n			\n						\n\n				\n									\n						Participants will be offered an online group session prior to the course\, designed as a preparatory meeting to introduce key concepts and support their music preparation for the workshop.					 \n				\n			\n			\n		\n						\n				\n					\n				\n		\n					\n		\n				\n				\n							\n\n						\n				\n								\n			\n			\n						\n\n									\n						\n							Day 1 & Day 2						\n					\n				\n									\n						(7 hrs per day)4 repertoire sessions with 2 pianists2 group coaching sessions\n					 \n				\n			\n			\n		\n						\n				\n				\n					\n				\n		\n					\n		\n				\n				\n							\n\n			\n						\n\n				\n									\n						Over the first two days\, we'll have four repertoire sessions\, working with pianists and both tutors. The focus will be on connecting your musical vision with your physical expression.  In addition\, we'll help identify any potentially unproductive habits\, providing an excellent opportunity to replace them with more effective ones. The insights gained during these initial days will prepare you for Day 3\, when you will conduct an ensemble of two pianists and a string quintet.					 \n				\n			\n			\n		\n						\n				\n				\n					\n				\n		\n					\n		\n				\n				\n							\n\n						\n				\n								\n			\n			\n						\n\n									\n						\n							Day 3						\n					\n				\n									\n						( 7 hrs)2 session with ensemblegroup discussion					 \n				\n			\n			\n		\n						\n				\n				\n				\n							\n\n			\n						\n\n				\n									\n						Day 3 marks the transition from working with pianists to exploring the dynamic world of ensemble performance\, conducting an ensemble of strings quintet and 2 pianists\, and accompanying a singer in dramatic recitativo and aria. By gradually expanding the scope of our focus\, we ensure a comprehensive and seamless learning experience that empowers you to become a more effective and expressive conductor within an ensemble context. 					 \n				\n			\n			\n		\n						\n				\n				\n					\n				\n		\n					\n				\n				\n							\n\n						\n				\n								\n			\n			\n						\n\n									\n						\n							Day 4						\n					\n				\n									\n						1 on 1 session with both tutors\ngroup discussion\n1 final rehearsal and showcase performance\n\n					 \n				\n			\n			\n		\n						\n				\n				\n				\n							\n\n			\n						\n\n				\n									\n						On Day 4\, you will have the opportunity for individualised guidance and mentorship during one-on-one session with both tutors. These personalised session will allow you to receive tailored feedback\, address specific musical challenges\, and refine your technical skills.  \n\nIn the afternoon\, we will come together for a last group discussion and preparation for your final rehearsal. This session provides an open forum to exchange ideas\, share insights\, and explore topics relevant to competition technique and performance.\n\nThe final rehearsal will integrate everything you have experienced over the workshop\, culminating in a final performance for your video portfolio.\n					 \n				\n			\n			\n		\n						\n				\n				\n				\n							\n			\n						\n		\n						\n				\n					\n				\n		\n					\n		\n				\n				\n					Repertoire				\n				\n				\n				\n							\n\n			\n						\n\n				\n									\n						\n\n    \n        \n            Ludwig van Beethoven\n        \n        \n            Symphony No. 6 ‘Pastoral’ – 1st movement\n        \n    \n\n    \n        \n            Wolfgang Amadeus Mozart\n        \n        \n            Symphony No. 41 ‘Jupiter’ – 2nd movement\n        \n    \n\n    \n        \n            Antonín Dvořák\n        \n        \n            Symphony No. 7 – 3rd movement\n        \n    \n\n    \n        \n            Johannes Brahms\n        \n        \n            Symphony No. 2 – 4th movement\n        \n    \n\n    \n        \n            Wolfgang Amadeus Mozart\n        \n        \n            Recitative and Aria – ‘Hai già vinta la causa’ from Le nozze di Figaro\n        \n    \n\n					 \n				\n			\n			\n		\n						\n				\n				\n				\n							\n			\n						\n		\n						\n				\n				\n					\n				\n		\n					\n		\n				\n				\n							\n\n			\n						\n\n									\n						\n							Application Process						\n					\n				\n									\n						The course is designed for a maximum of 8 advanced students and professional conductors.\n\nApplication Deadlines:\n\nEarly Bird: Applications must be submitted by April 6st\, 2026.\n\nFinal Deadline: The deadline for all applications is May 1st\, 2026.\n\nHowever\, places may be filled before these dates; therefore\, we strongly recommend submitting your application at the earliest convenience to secure your spot and take advantage of the preferred rates.\n\nRequirements:\n\nYour application should include at least two videos of your conducting taken within the last two years.					 \n				\n			\n			\n		\n						\n				\n				\n				\n							\n			\n						\n		\n						\n				\n				\n					\n				\n		\n					\n		\n				\n				\n							\n\n			\n						\n\n									\n						\n							Fees and Payment						\n					\n				\n									\n						Early Bird Registration: Available to applicants until April 6th at a reduced rate of €1650. This requires a 50% deposit of €825 to secure the spot upon an offer of admission\, and the remaining balance (€825) is due by May 10th.\n\nStandard Registration: For applications received after April 6th\, the Standard Registration fee of €1800 applies. Places must be confirmed with a 50% deposit (€900) upon offer of admission\, and the remaining balance (€900) is due by May 10th.\n\nNon-Active Participants: There is also a category for Non-Active Participants. This is specifically designed for conducting students in full-time education or who have graduated within the past two years. A limited number of observer places are available at a cost of €500\, offering an opportunity to attend and observe the sessions.\n\nPlease be aware that all the fees are established in Euros and do not cover accommodation\, travel\, or living expenses.					 \n				\n			\n			\n		\n						\n				\n				\n					\n				\n		\n					\n				\n				\n							\n			\n						\n		\n						\n				\n					\n				\n		\n					\n				\n				\n							\n\n			\n						\n\n									\n						\n							Cancellation and Refund Policy						\n					\n				\n									\n						\nUNTIL MAY 1st\, 2026\n\n• For cancellations made on or before this date\, a full refund will be issued\, minus a non-refundable cancellation fee of €300. Alternatively\, the deposit or the full fee may be transferred to a future session.\n\n• A transfer to a future session may be granted only once.\n\n• The transfer is valid for the next available edition of the workshop\, or within 12 months from the original scheduled date.\n\n• By accepting a transfer\, the participant explicitly waives the right to any future monetary refund.\n\n• Once a place in a future session has been offered and accepted\, the registration becomes final and binding; from that moment\, no further changes\, transfers\, or refunds of any amount will be available.\n\nFROM MAY 2nd TO MAY 15th\, 2026\n\n• For cancellations made in this period\, 50% of the total fee will be refunded only if the full payment has already been made. If only the deposit has been paid\, it will be retained in full.\n\nAFTER MAY 15th\, 2026\n\n• No refund will be issued for cancellations made after this date.\n\n\n\nOrganizer’s Cancellation Policy:\n\nThe organizers reserve the right to postpone or cancel the workshop in the event of force majeure or other unforeseeable circumstances. In such cases\, participants will be notified immediately\, and any fees paid will be fully refunded. Please note that travel and accommodation expenses already incurred by participants will not be reimbursed.					 \n				\n			\n			\n		\n						\n				\n				\n				\n							\n			\n						\n		\n						\n				\n					\n				\n		\n					\n		\n				\n				\n							\n\n			\n						\n\n									\n						\n							Participant feedback from our last Vienna workshop (October 2024)						\n					\n				\n				\n			\n			\n		\n						\n				\n				\n					\n				\n		\n					\n		\n				\n				\n							\n					\n						\n				\n				\n					\n				\n		\n					\n		\n				\n				\n							\n\n			\n						\n\n									\n						\n							Participant feedback from our last London workshop (February 2024)						\n					\n				\n				\n			\n			\n		\n						\n				\n				\n					\n				\n		\n					\n		\n				\n				\n							\n					\n						\n				\n				\n					\n				\n		\n					\n		\n				\n				\n							\n			\n						\n		\n						\n				\n				\n				\n							\n						\n				\n				\n					\n				\n		\n					\n		\n				\n				\n					Application form				\n				\n				\n					\n				\n		\n					\n		\n				\n				\n							\n			\n			\n			\n\n			\n			\n								\n												\n								Name							\n														\n											\n								\n												\n								Surname							\n														\n											\n								\n												\n								Email							\n														\n											\n								\n												\n								Email confirmation							\n														\n											\n								\n												\n								Date of birth:							\n						\n		\n						\n								\n												\n								Age:							\n									\n						\n								\n												\n								Nationality:							\n														\n											\n								\n												\n								Country Currently living in:							\n								\n			\n							\n			\n									Afghanistan\n									Albania\n									Algeria\n									Andorra\n									Angola\n									Antigua & Deps\n									Argentina\n									Armenia\n									Australia\n									Austria\n									Azerbaijan\n									Bahamas\n									Bahrain\n									Bangladesh\n									Barbados\n									Belarus\n									Belgium\n									Belize\n									Benin\n									Bhutan\n									Bolivia\n									Bosnia Herzegovina\n									Botswana\n									Brazil\n									Brunei\n									Bulgaria\n									Burkina\n									Burundi\n									Cambodia\n									Cameroon\n									Canada\n									Cape Verde\n									Central African Rep\n									Chad\n									Chile\n									China\n									Colombia\n									Comoros\n									Congo\n									Congo {Democratic Rep}\n									Costa Rica\n									Croatia\n									Cuba\n									Cyprus\n									Czech Republic\n									Denmark\n									Djibouti\n									Dominica\n									Dominican Republic\n									East Timor\n									Ecuador\n									Egypt\n									El Salvador\n									Equatorial Guinea\n									Eritrea\n									Estonia\n									Ethiopia\n									Fiji\n									Finland\n									France\n									Gabon\n									Gambia\n									Georgia\n									Germany\n									Ghana\n									Greece\n									Grenada\n									Guatemala\n									Guinea\n									Guinea-Bissau\n									Guyana\n									Haiti\n									Honduras\n									Hungary\n									Iceland\n									India\n									Indonesia\n									Iran\n									Iraq\n									Ireland {Republic}\n									Israel\n									Italy\n									Ivory Coast\n									Jamaica\n									Japan\n									Jordan\n									Kazakhstan\n									Kenya\n									Kiribati\n									Korea North\n									Korea South\n									Kosovo\n									Kuwait\n									Kyrgyzstan\n									Laos\n									Latvia\n									Lebanon\n									Lesotho\n									Liberia\n									Libya\n									Liechtenstein\n									Lithuania\n									Luxembourg\n									Macedonia\n									Madagascar\n									Malawi\n									Malaysia\n									Maldives\n									Mali\n									Malta\n									Marshall Islands\n									Mauritania\n									Mauritius\n									Mexico\n									Micronesia\n									Moldova\n									Monaco\n									Mongolia\n									Montenegro\n									Morocco\n									Mozambique\n									Myanmar\, {Burma}\n									Namibia\n									Nauru\n									Nepal\n									Netherlands\n									New Zealand\n									Nicaragua\n									Niger\n									Nigeria\n									Norway\n									Oman\n									Pakistan\n									Palau\n									Panama\n									Papua New Guinea\n									Paraguay\n									Peru\n									Philippines\n									Poland\n									Portugal\n									Qatar\n									Romania\n									Russian Federation\n									Rwanda\n									St Kitts & Nevis\n									St Lucia\n									Saint Vincent & the Grenadines\n									Samoa\n									San Marino\n									Sao Tome & Principe\n									Saudi Arabia\n									Senegal\n									Serbia\n									Seychelles\n									Sierra Leone\n									Singapore\n									Slovakia\n									Slovenia\n									Solomon Islands\n									Somalia\n									South Africa\n									South Sudan\n									Spain\n									Sri Lanka\n									Sudan\n									Suriname\n									Swaziland\n									Sweden\n									Switzerland\n									Syria\n									Taiwan\n									Tajikistan\n									Tanzania\n									Thailand\n									Togo\n									Tonga\n									Trinidad & Tobago\n									Tunisia\n									Turkey\n									Turkmenistan\n									Tuvalu\n									Uganda\n									Ukraine\n									United Arab Emirates\n									United Kingdom\n									United States\n									Uruguay\n									Uzbekistan\n									Vanuatu\n									Vatican City\n									Venezuela\n									Vietnam\n									Yemen\n									Zambia\n									Zimbabwe\n							\n		\n						\n								\n												\n								Phone:							\n														\n											\n								\n												\n								Address:							\n														\n											\n								\n												\n								City:							\n														\n											\n								\n												\n								State:							\n								\n			\n							\n			\n									Afghanistan\n									Albania\n									Algeria\n									Andorra\n									Angola\n									Antigua & Deps\n									Argentina\n									Armenia\n									Australia\n									Austria\n									Azerbaijan\n									Bahamas\n									Bahrain\n									Bangladesh\n									Barbados\n									Belarus\n									Belgium\n									Belize\n									Benin\n									Bhutan\n									Bolivia\n									Bosnia Herzegovina\n									Botswana\n									Brazil\n									Brunei\n									Bulgaria\n									Burkina\n									Burundi\n									Cambodia\n									Cameroon\n									Canada\n									Cape Verde\n									Central African Rep\n									Chad\n									Chile\n									China\n									Colombia\n									Comoros\n									Congo\n									Congo {Democratic Rep}\n									Costa Rica\n									Croatia\n									Cuba\n									Cyprus\n									Czech Republic\n									Denmark\n									Djibouti\n									Dominica\n									Dominican Republic\n									East Timor\n									Ecuador\n									Egypt\n									El Salvador\n									Equatorial Guinea\n									Eritrea\n									Estonia\n									Ethiopia\n									Fiji\n									Finland\n									France\n									Gabon\n									Gambia\n									Georgia\n									Germany\n									Ghana\n									Greece\n									Grenada\n									Guatemala\n									Guinea\n									Guinea-Bissau\n									Guyana\n									Haiti\n									Honduras\n									Hungary\n									Iceland\n									India\n									Indonesia\n									Iran\n									Iraq\n									Ireland {Republic}\n									Israel\n									Italy\n									Ivory Coast\n									Jamaica\n									Japan\n									Jordan\n									Kazakhstan\n									Kenya\n									Kiribati\n									Korea North\n									Korea South\n									Kosovo\n									Kuwait\n									Kyrgyzstan\n									Laos\n									Latvia\n									Lebanon\n									Lesotho\n									Liberia\n									Libya\n									Liechtenstein\n									Lithuania\n									Luxembourg\n									Macedonia\n									Madagascar\n									Malawi\n									Malaysia\n									Maldives\n									Mali\n									Malta\n									Marshall Islands\n									Mauritania\n									Mauritius\n									Mexico\n									Micronesia\n									Moldova\n									Monaco\n									Mongolia\n									Montenegro\n									Morocco\n									Mozambique\n									Myanmar\, {Burma}\n									Namibia\n									Nauru\n									Nepal\n									Netherlands\n									New Zealand\n									Nicaragua\n									Niger\n									Nigeria\n									Norway\n									Oman\n									Pakistan\n									Palau\n									Panama\n									Papua New Guinea\n									Paraguay\n									Peru\n									Philippines\n									Poland\n									Portugal\n									Qatar\n									Romania\n									Russian Federation\n									Rwanda\n									St Kitts & Nevis\n									St Lucia\n									Saint Vincent & the Grenadines\n									Samoa\n									San Marino\n									Sao Tome & Principe\n									Saudi Arabia\n									Senegal\n									Serbia\n									Seychelles\n									Sierra Leone\n									Singapore\n									Slovakia\n									Slovenia\n									Solomon Islands\n									Somalia\n									South Africa\n									South Sudan\n									Spain\n									Sri Lanka\n									Sudan\n									Suriname\n									Swaziland\n									Sweden\n									Switzerland\n									Syria\n									Taiwan\n									Tajikistan\n									Tanzania\n									Thailand\n									Togo\n									Tonga\n									Trinidad & Tobago\n									Tunisia\n									Turkey\n									Turkmenistan\n									Tuvalu\n									Uganda\n									Ukraine\n									United Arab Emirates\n									United Kingdom\n									United States\n									Uruguay\n									Uzbekistan\n									Vanuatu\n									Vatican City\n									Venezuela\n									Vietnam\n									Yemen\n									Zambia\n									Zimbabwe\n							\n		\n						\n								\n												\n								1. Video URL							\n														\n											\n								\n												\n								2. Video URL							\n														\n											\n								\n												\n								3. Video URL							\n														\n											\n								\n												\n								CV / Biography Upload *							\n								\n\n						\n								\n												\n								Message							\n										\n								\n					\n						\n																						Send your application\n													\n					\n				\n			\n		\n						\n				\n				\n					\n				\n		\n					\n		\n				\n				\n					Have a Question?				\n				\n				\n					\n				\n		\n					\n		\n				\n				\n					If you need more information or have any queries\, please feel free to contact us.				\n				\n				\n					\n				\n		\n					\n		\n				\n				\n							\n			\n			\n			\n\n			\n			\n								\n												\n								Name							\n														\n											\n								\n												\n								Email							\n														\n											\n								\n												\n								Subject							\n														\n											\n								\n												\n								Message							\n										\n								\n									\n								\n					\n						\n																						Send a message
URL:https://respiroemovimento.org/event/purser-and-ravi-conducting-academy-vienna-7-10-june-2026/
ATTACH;FMTTYPE=image/png:https://respiroemovimento.org/wp-content/uploads/2026/02/Purser-and-Ravi-Conducting-june-26.png
END:VEVENT
END:VCALENDAR